BEGIN:VCALENDAR
VERSION:2.0
PRODID:-//CHAMBER DASHBOARD//EVENTS CALENDAR2.0//EN
CALSCALE:GREGORIAN
BEGIN:VEVENT
DTEND:20200918T190000Z
UID:69eaab662d1d4
DTSTAMP:20260423T232942Z
CATEGORIES:Webinar
DESCRIPTION:&nbsp\;  WEBINAR: Iron Sharpeneth Iron Faith-based &amp\; Community Initiative  COME JOIN US    Who: Faith\, Business\, and Community Leaders    What: Iron Sharpeneth Iron Faith-based Initiative    When: Friday\, September 18\, 2020\,    Where: Virtual Webinar Panel    Topic: Small Business Pivot with PPP &amp\; EIDL Funding    Event Sponsors: SBA | Nevada Business Opportunity Fund | Armed Forces Chamber of Commerce | Christian Chamber of Commerce Cosponsorship Authorization: 19-0944-88. SBA’s participation in this cosponsored activity is not an endorsement of the views\, opinions\, products\, or services of any cosponsor or other person or entity.    Reasonable accommodations for persons with disabilities will be made if requested at least two weeks in advance. Contact the SBA at (702) 388-6611.    &nbsp\;    REGISTER HERE
URL;VALUE=URI:https://camaradecomerciocristiana.com/event/small-business-pivot-with-ppp-eidl-funding/
SUMMARY:Small Business Pivot with PPP &amp\; EIDL Funding
DTSTART:20200918T180000Z
END:VEVENT
END:VCALENDAR
