BEGIN:VCALENDAR
VERSION:2.0
PRODID:-//CHAMBER DASHBOARD//EVENTS CALENDAR2.0//EN
CALSCALE:GREGORIAN
BEGIN:VEVENT
DTEND:20240704T181100Z
UID:69eada40a1fba
DTSTAMP:20260424T024936Z
CATEGORIES:Community
DESCRIPTION:
URL;VALUE=URI:https://camaradecomerciocristiana.com/event/fcp-monthly-prayer/fcp-monthly-prayer-5/
SUMMARY:FCP Monthly Prayer
DTSTART:20240704T181100Z
END:VEVENT
END:VCALENDAR
