BEGIN:VCALENDAR
VERSION:2.0
PRODID:-//CHAMBER DASHBOARD//EVENTS CALENDAR2.0//EN
CALSCALE:GREGORIAN
BEGIN:VEVENT
DTEND:20200228T030000Z
UID:69eaa679f115c
DTSTAMP:20260423T230841Z
CATEGORIES:Business Dinner
LOCATION:Restaurant La Patrona 1401 S Las Vegas Blvd\,, Las Vegas\, NV 89104, Nevada, 89119, United States
DESCRIPTION:The Christian Chamber of Commerce is honored to invite you to “Couples & Partners”. This special reception is to close a month that celebrates love and friendship. Bring your loved one or your partner to enjoy quality time away from the office.     This fantastic reception will take place at the new restaurant La Patrona Mexican Cantina which is located at 1401 South Las Vegas Boulevard  Las Vegas\, NV 89104\, the parking is free. The program will take place on February 27th\, 2020\, from 5 pm to 7 pm.     This is an invitation-only event so you and your guest must be registered in order to participate. For ticket purchase please visit our event page on Eventbrite. We look forward to seeing you soon and if you have any questions\, or if you are interested in vendors opportunities don’t hesitate to contact us!      info@ccofcommerce.com  gmoreno@ccofcommerce.com  (702) 246-2831
URL;VALUE=URI:https://camaradecomerciocristiana.com/event/couples-partners/
SUMMARY:Couples &amp\; Partners
DTSTART:20200228T010000Z
END:VEVENT
END:VCALENDAR
