BEGIN:VCALENDAR
VERSION:2.0
PRODID:-//CHAMBER DASHBOARD//EVENTS CALENDAR2.0//EN
CALSCALE:GREGORIAN
BEGIN:VEVENT
DTEND:20210414T163000Z
UID:69ea93791233c
DTSTAMP:20260423T214737Z
CATEGORIES:Business Breakfast\,Seminar\,Webinar
LOCATION:Online Webinar 
DESCRIPTION:About this Event        Café Virtual will bring you a highly valued connection every month. The featured guest will talk about their business journey\, challenges\, achievements\, and how to make a new network connection valuable. In addition\, our main sponsor\, Sambalatte will delight us with delicious treats and coffee selections.    About our guest:    Michael W. Rogers is a self-taught photographer and owner of Michael W. Photography in Las Vegas\, Nevada. He specializes in portraits and headshots for business and personal needs. Whether updating a LinkedIn photo\, launching a personal brand\, or auditioning for a big role\, you’ll be ready. Mr. Rogers provides professional guidance to show your most authentic and confident self.    COVID-19 Safety Disclaimer    By clicking Add to Cart or Checkout below\, you are acknowledging that an inherent risk of exposure to COVID-19 exists in any public place where people are present. By attending Cafe Virtual\, you and any guests voluntarily assume all risks related to exposure to COVID-19 and agree not to hold Christian Chamber of Commerce\, Sambalatte\, or any of their affiliates\, directors\, officers\, employees\, agents\, contractors\, or volunteers liable for any illness or injury.    This is an indoor/outdoor event at Sambalatte. Social distancing and face covering are required as well as any other safety protocols mandated by our local authorities.    Get your tickets now through our store or through Eventbrite
URL;VALUE=URI:https://camaradecomerciocristiana.com/event/cafe-virtual/
SUMMARY:Cafe Virtual
DTSTART:20210414T150000Z
END:VEVENT
END:VCALENDAR
