BEGIN:VCALENDAR
VERSION:2.0
PRODID:-//CHAMBER DASHBOARD//EVENTS CALENDAR2.0//EN
CALSCALE:GREGORIAN
BEGIN:VEVENT
DTEND:20200131T150000Z
UID:69ea90bd36acd
DTSTAMP:20260423T213557Z
CATEGORIES:Free Event\,Workshop
LOCATION:Iglesia Libertad en Cristo E. Dessert Inn, Las Vegas, NV, 89121, United States
DESCRIPTION:Yadira Valencia es contadora profesional con más de 10 años de experiencia como preparadora y consultante de impuestos. Ella pertenece al grupo de mujeres hispanas en Las Vegas que es dueña de su propio negocio.    El taller "Entendiendo Mis Taxes" da herramientas para que podamos entender y manejar nuestros impuestos. Nos asesora en cómo elegir a un buen preparador y explica cómo hacer tu declaración de impuestos usando un numero ITIN.    Haz click aqui para hacer tu inscribirte. Cupo limitado!    &nbsp\;
URL;VALUE=URI:https://camaradecomerciocristiana.com/es/event/taller-de-taxes/
SUMMARY:Entendiendo Mis Taxes
DTSTART:20200131T130000Z
END:VEVENT
END:VCALENDAR