BEGIN:VCALENDAR
VERSION:2.0
PRODID:-//CHAMBER DASHBOARD//EVENTS CALENDAR2.0//EN
CALSCALE:GREGORIAN
BEGIN:VEVENT
DTEND:20240725T030000Z
UID:69ea7858f2334
DTSTAMP:20260423T195152Z
CATEGORIES:Workshop
LOCATION:NV 89032 
DESCRIPTION:Aprende a exponer tu marca. Llega a tus clientes de manera accesible y profesional. Taller de branding y Marketing junto a David Ocampo completamente GRATIS. Solo por registración. Julio 24\, 6 pm    Para mas info llama al 7022462831
URL;VALUE=URI:https://camaradecomerciocristiana.com/es/event/taller-de-branding-y-marketing/
SUMMARY:Taller de Branding y Marketing
DTSTART:20240725T010000Z
END:VEVENT
END:VCALENDAR