BEGIN:VCALENDAR
VERSION:2.0
PRODID:-//CHAMBER DASHBOARD//EVENTS CALENDAR2.0//EN
CALSCALE:GREGORIAN
BEGIN:VEVENT
DTEND:20230414T090800Z
UID:69eaabb92e360
DTSTAMP:20260423T233105Z
LOCATION:Nevada Donor Network 2055 E Sahara Ave\,, Las Vegas\,, NV, 89104, United States
DESCRIPTION:Are you struggling to turn your social media presence into actual paying customers? Don't worry\, we've got you covered! Meet Steven Diamond\, owner of Diamond Social Media Group\, who has worked with some of the biggest brands in the world. Steven can help you transform your social media campaigns into revenue-generating machines.    &nbsp\;    Don't miss out on this opportunity to learn from the best! RSVP now for our upcoming session on April 27th at 5 pm.    Brought to you by The Christian Chamber of Commerce
URL;VALUE=URI:https://camaradecomerciocristiana.com/es/event/social-media-marketing-with-steven-diamond/
SUMMARY:#SOCIAL MEDIA MARKETING with Steven Diamond
DTSTART:20230414T090800Z
END:VEVENT
END:VCALENDAR