BEGIN:VCALENDAR
VERSION:2.0
PRODID:-//CHAMBER DASHBOARD//EVENTS CALENDAR2.0//EN
CALSCALE:GREGORIAN
BEGIN:VEVENT
DTEND:20240622T181000Z
UID:69ea5ed7e278f
DTSTAMP:20260423T180303Z
DESCRIPTION:
URL;VALUE=URI:https://camaradecomerciocristiana.com/es/event/memorial/
SUMMARY:Memorial
DTSTART:20240622T181000Z
END:VEVENT
END:VCALENDAR