BEGIN:VCALENDAR
VERSION:2.0
PRODID:-//CHAMBER DASHBOARD//EVENTS CALENDAR2.0//EN
CALSCALE:GREGORIAN
BEGIN:VEVENT
DTEND:20240316T175600Z
UID:69ea778b48f37
DTSTAMP:20260423T194827Z
DESCRIPTION:
URL;VALUE=URI:https://camaradecomerciocristiana.com/es/event/march-for-life/
SUMMARY:March for Life
DTSTART:20240316T175600Z
END:VEVENT
END:VCALENDAR