BEGIN:VCALENDAR
VERSION:2.0
PRODID:-//CHAMBER DASHBOARD//EVENTS CALENDAR2.0//EN
CALSCALE:GREGORIAN
BEGIN:VEVENT
DTEND:20200821T190000Z
UID:69ea80ecacb84
DTSTAMP:20260423T202828Z
CATEGORIES:Webinar
DESCRIPTION:COME JOIN US  Who: Faith\, Business\, and Community Leaders    What: Iron Sharpeneth Iron Faith-based Initiative    When: Friday\, August 21\, 2020    Where: Virtual Webinar    Panel Topic:  Economic and Workforce Development in Faith-based Communities    Event Sponsors:  SBA | Nevada Business Opportunity Fund | Armed Forces Chamber of Commerce | Christian Chamber of Commerce   Cosponsorship Authorization: 19-0944-88. SBA’s participation in this cosponsored activity is not an endorsement of the views\, opinions\, products or services of any cosponsor or other person or entity. Reasonable accommodations for persons with disabilities will be made if requested at least two weeks in advance. Contact the SBA at (702) 388-6611.
URL;VALUE=URI:https://camaradecomerciocristiana.com/es/event/iron-sharpeneth-iron-faith-based-community-initiative/
SUMMARY:Iron Sharpeneth Iron Faith-based &amp\; Community Initiative
DTSTART:20200821T180000Z
END:VEVENT
END:VCALENDAR