BEGIN:VCALENDAR
VERSION:2.0
PRODID:-//CHAMBER DASHBOARD//EVENTS CALENDAR2.0//EN
CALSCALE:GREGORIAN
BEGIN:VEVENT
DTEND:20200208T230000Z
UID:69ea98e102104
DTSTAMP:20260423T221041Z
CATEGORIES:Free Event
DESCRIPTION:American Federation for Children Growth Fund\, is proud to launch the inaugural Hispanic Leaders in Education Forum.    This is the nation’s first elite gathering of Latino stakeholders. This assembly of state and local policymakers\, education leaders\, and advocates will share information on successful policies that are transforming education.    The agenda will cover the following topics:     	Learn about the healthy coexistence of public\, private school models.   	Learn what the data shows about your constituents.   	Gain a deeper understanding of this issue.    For reservations click here.
URL;VALUE=URI:https://camaradecomerciocristiana.com/es/event/hispanic-leaders-in-education-forum/
SUMMARY:Hispanic Leaders in Education Forum
DTSTART:20200208T180000Z
END:VEVENT
END:VCALENDAR