BEGIN:VCALENDAR
VERSION:2.0
PRODID:-//CHAMBER DASHBOARD//EVENTS CALENDAR2.0//EN
CALSCALE:GREGORIAN
BEGIN:VEVENT
DTEND:20210121T190000Z
UID:69ea949b42ba2
DTSTAMP:20260423T215227Z
CATEGORIES:Webinar
LOCATION:Online Webinar 
DESCRIPTION:THIS HAS BEEN A CHALLENGING YEAR FOR EVERYONE. WE BASICALLY TRAVEL FROM AN INFLATED ECONOMY INTO A PANDEMIC RECESSION. “GOD’S GOOD ADMINISTRATOR” IS A COLLABORATION BETWEEN THE CHRISTIAN CHAMBER OF COMMERCE AND COMPASS FINANCES GOD'S WAY. THIS WEBINAR EXPLORES A BIBLICAL WORLDVIEW OF WEALTH AND MONEY. WE DISCOVER GOD’S VIEW ON DEBT\, SPENDING\, SAVING\, GIVING\, PLANNING\, AND COUNSEL THAT PROVIDE A BIBLICAL FOUNDATION FOR OUR FINANCIAL JOURNEY. JOIN US THIS UPCOMING JANUARY 21ST\, 2021 AT 11AM
URL;VALUE=URI:https://camaradecomerciocristiana.com/es/event/gods-good-administrator/
SUMMARY:God&#039\;s Good Administrator
DTSTART:20210121T190000Z
END:VEVENT
END:VCALENDAR