BEGIN:VCALENDAR
VERSION:2.0
PRODID:-//CHAMBER DASHBOARD//EVENTS CALENDAR2.0//EN
CALSCALE:GREGORIAN
BEGIN:VEVENT
DTEND:20220521T160000Z
UID:69eaab8d01d44
DTSTAMP:20260423T233021Z
LOCATION:Sportsman Warehouse 
DESCRIPTION:This seminar has a huge social impact by bringing education\, inclusion\, and diversity to our community. The Christian Chamber of Commerce alongside 3 Dot Sight Group LLC is pleased to bring the first firearms safety seminar in Spanish. During the time of the pandemic\, statistics show that more than 4 billion firearms were sold in America. Due to the high demand and the number of new firearms owners\, more than ever\, it is important that all communities have access to understanding firearms and safety education.
URL;VALUE=URI:https://camaradecomerciocristiana.com/es/event/firearms-safety-seminar/
SUMMARY:Firearms Safety Seminar
DTSTART:20220521T160000Z
END:VEVENT
END:VCALENDAR