BEGIN:VCALENDAR
VERSION:2.0
PRODID:-//CHAMBER DASHBOARD//EVENTS CALENDAR2.0//EN
CALSCALE:GREGORIAN
BEGIN:VEVENT
DTEND:20240201T191100Z
UID:69ead697a91ff
DTSTAMP:20260424T023359Z
CATEGORIES:Community
DESCRIPTION:
URL;VALUE=URI:https://camaradecomerciocristiana.com/es/event/fcp-monthly-prayer/
SUMMARY:FCP Monthly Prayer
DTSTART:20240201T191100Z
END:VEVENT
BEGIN:VEVENT
DTEND:20240307T191100Z
UID:69ead697a9968
DTSTAMP:20260424T023359Z
CATEGORIES:Community
DESCRIPTION:
URL;VALUE=URI:https://camaradecomerciocristiana.com/es/event/fcp-monthly-prayer/fcp-monthly-prayer/
SUMMARY:FCP Monthly Prayer
DTSTART:20240307T191100Z
END:VEVENT
END:VCALENDAR