BEGIN:VCALENDAR
VERSION:2.0
PRODID:-//CHAMBER DASHBOARD//EVENTS CALENDAR2.0//EN
CALSCALE:GREGORIAN
BEGIN:VEVENT
DTEND:20241003T181100Z
UID:69eadac2893b3
DTSTAMP:20260424T025146Z
CATEGORIES:Community
DESCRIPTION:
URL;VALUE=URI:https://camaradecomerciocristiana.com/es/event/fcp-monthly-prayer/fcp-monthly-prayer-8/
SUMMARY:FCP Monthly Prayer
DTSTART:20241003T181100Z
END:VEVENT
END:VCALENDAR