BEGIN:VCALENDAR
VERSION:2.0
PRODID:-//CHAMBER DASHBOARD//EVENTS CALENDAR2.0//EN
CALSCALE:GREGORIAN
BEGIN:VEVENT
DTEND:20240801T181100Z
UID:69eac2d4b7eee
DTSTAMP:20260424T010940Z
CATEGORIES:Community
DESCRIPTION:
URL;VALUE=URI:https://camaradecomerciocristiana.com/es/event/fcp-monthly-prayer/fcp-monthly-prayer-6/
SUMMARY:FCP Monthly Prayer
DTSTART:20240801T181100Z
END:VEVENT
END:VCALENDAR