BEGIN:VCALENDAR
VERSION:2.0
PRODID:-//CHAMBER DASHBOARD//EVENTS CALENDAR2.0//EN
CALSCALE:GREGORIAN
BEGIN:VEVENT
DTEND:20241205T191100Z
UID:69eada8f38fbe
DTSTAMP:20260424T025055Z
CATEGORIES:Community
DESCRIPTION:
URL;VALUE=URI:https://camaradecomerciocristiana.com/es/event/fcp-monthly-prayer/fcp-monthly-prayer-10/
SUMMARY:FCP Monthly Prayer
DTSTART:20241205T191100Z
END:VEVENT
END:VCALENDAR