BEGIN:VCALENDAR
VERSION:2.0
PRODID:-//CHAMBER DASHBOARD//EVENTS CALENDAR2.0//EN
CALSCALE:GREGORIAN
BEGIN:VEVENT
DTEND:20250428T180000Z
UID:69ea7850f3919
DTSTAMP:20260423T195144Z
DESCRIPTION:✨ Rise and Connect: A Strategic Faith-Based Networking Experience  📅 April 28\, 2025 | 🕘 9:00 AM – 11:00 AM📍 Hosted by the Christian Chamber of Commerce  Are you ready to take your connections to a higher level — one rooted in faith\, purpose\, and professional alignment?  We invite you to “Connect and Rise\,” a new networking experience designed to bring together members of the Christian Chamber of Commerce in segmented industries\, starting with our Finance Committee and expanding into Real Estate\, Health &amp\; Wellness\, Construction\, and more.    What is “Connect and Rise”?  “Connect and Rise” is more than a networking event — it's a movement within the Chamber to foster vertical collaboration. That means gathering professionals in the same industry to talk about real challenges\, exchange resources\, and explore new business opportunities\, all while keeping Christ at the center.  In this edition\, we’re launching with the Finance Circle\, where professionals from banking\, insurance\, financial advising\, tax preparation\, and stewardship ministries will gather for an intentional morning of:       	  💬 Roundtable Conversations     	  🤝 Strategic Connections     	  🛠 Live Pitch Collaboration     	  🙏 Prayer Circles and Faith Integration       Event Details:  Date: Monday\, April 28\, 2025Time: 9:00 AM – 11:00 AMLocation: [Insert Venue or Zoom Link]Admission: Free for Chamber members | $10 for guests     Why Should You Attend?     	  Grow your industry-specific network within a Kingdom-focused environment     	  Discover ways to collaborate and partner with aligned professionals     	  Receive faith-based insight into business challenges     	  Walk away with intentional connections and prayer support      Ready to Join?  Spaces are limited to keep conversations meaningful.Let’s connect\, collaborate\, and rise together.
URL;VALUE=URI:https://camaradecomerciocristiana.com/es/event/events-connect-and-rise-finance-networking-april-28/
SUMMARY:Rise and Connect: Where Faith Meets Finance
DTSTART:20250428T160000Z
END:VEVENT
END:VCALENDAR