BEGIN:VCALENDAR
VERSION:2.0
PRODID:-//CHAMBER DASHBOARD//EVENTS CALENDAR2.0//EN
CALSCALE:GREGORIAN
BEGIN:VEVENT
DTEND:20240920T181000Z
UID:69ea609f248ab
DTSTAMP:20260423T181039Z
DESCRIPTION:
URL;VALUE=URI:https://camaradecomerciocristiana.com/es/event/champions-for-life-banquet/
SUMMARY:Champions for Life Banquet
DTSTART:20240920T181000Z
END:VEVENT
END:VCALENDAR