BEGIN:VCALENDAR
VERSION:2.0
PRODID:-//CHAMBER DASHBOARD//EVENTS CALENDAR2.0//EN
CALSCALE:GREGORIAN
BEGIN:VEVENT
DTEND:20191114T210000Z
UID:69ea7ffe36bd4
DTSTAMP:20260423T202430Z
CATEGORIES:Business Brunch
DESCRIPTION:Join us on November 14th in our first Christian Chamber of Commerce Brunch series.    For this so expected event which is the breakthrough of a series that will have you actively engaged with other business owners.    Come ready to enhance your Network\, this first brunch will gather some of the most influential local Christian and non-Christian businessmen and women from Las Vegas\, NV.Share your insight and feedback with other fellow members and discuss new business ideas.    For this fantastic event\, we will have two brief participation from    The Christian Chamber of Commerce    Nathan Anderson Hospice    The Artisan Latin Cuisine restaurant Tres Cazuelas will be hosting and offering a special menu for us to share.    Limited coupons so act fast!    Overview of Christian Chamber of Commerce:    Do you own a business\, are you a young professional\, in your business in need of a boost? Need to expand your network at a high scale?    The Christian Chamber Is here as a vision of God for businessmen around the world. We strongly support the development of our business communities. We operate by helping one another\, exposing those who are practicing with total transparency and integrity.    &nbsp\;                Tags  United States Events Nevada Events Things To Do In Paradise\, NV Paradise Networking Paradise Business Networking            Share With Friends       	Facebook   	Facebook Messenger   	LinkedIn   	Twitter   	email        &nbsp\;            &nbsp\;
URL;VALUE=URI:https://camaradecomerciocristiana.com/es/event/business-networking-breakfast/
SUMMARY:Business Networking Brunch
DTSTART:20191114T190000Z
END:VEVENT
END:VCALENDAR