BEGIN:VCALENDAR
VERSION:2.0
PRODID:-//CHAMBER DASHBOARD//EVENTS CALENDAR2.0//EN
CALSCALE:GREGORIAN
BEGIN:VEVENT
DTEND:20220414T190000Z
UID:69ea98dfe0588
DTSTAMP:20260423T221039Z
CATEGORIES:Free Event
DESCRIPTION:In observance of the National Child Abuse Prevention Month. The Business Insider Tour will be featuring Jenny Fay from Olive Crest.      During this tour  Jenny will speak about how community members and businesses can be crucial to ending child abuse and neglect.      About Olive Crest  Olive Crest’s proven model helps prevent abuse and neglect\, stops the cycle of child abuse\, and enables children and families to become healthy productive citizens.      Join us on April 14 from 10 am-to 12 pm    GET YOUR FREE TICKETS HERE
URL;VALUE=URI:https://camaradecomerciocristiana.com/es/event/business-insider-tour-present-jenny-fay-and-olive-crest/
SUMMARY:Business Insider Tour present - Jenny Fay and Olive Crest
DTSTART:20220414T170000Z
END:VEVENT
END:VCALENDAR