BEGIN:VCALENDAR
VERSION:2.0
PRODID:-//CHAMBER DASHBOARD//EVENTS CALENDAR2.0//EN
CALSCALE:GREGORIAN
BEGIN:VEVENT
DTEND:20220615T085200Z
UID:69eaa7be5c2d6
DTSTAMP:20260423T231406Z
CATEGORIES:Workshop
LOCATION:Marbeya Executive Suites 6655 W Sahara Ave Suite B200, Las Vegas, NV, 89146, UNited States
DESCRIPTION:El Presidente de Money MC's (Las Vegas\, NV)\, la CEO de CLG Tax Carmen Ledesma (Las Vegas\, NV) y la Asesora Financiera Yoxaris Taño (Las Vegas\, NV) se juntan para traer el taller "AUmentando el capital en tiempos de inflación". Este taller aborda temas dentro de los campos de finanzas\, credito\, fuerza laboral y taxes de una forma Integral y dinámica. Al certificarse con este taller sabras: como establecer los elementos que componen tu negocio con creces aunque sean tiempos de inflación. Este Taller es traído a través de la Cámara de Comercio Cristiana\, con la colaboración de Money MC's y CLG Tax Services    &nbsp\;    https://youtu.be/0vYDi791ZGU
URL;VALUE=URI:https://camaradecomerciocristiana.com/es/event/aumentando-el-capital-en-tiempos-de-inflacion/
SUMMARY:Aumentando el capital en tiempos de inflación
DTSTART:20220615T085200Z
END:VEVENT
END:VCALENDAR