BEGIN:VCALENDAR
VERSION:2.0
PRODID:-//CHAMBER DASHBOARD//EVENTS CALENDAR2.0//EN
CALSCALE:GREGORIAN
BEGIN:VEVENT
DTEND:20220127T102400Z
UID:69ea94f4efe67
DTSTAMP:20260423T215356Z
LOCATION:Avant Garde Upholstery &amp; Design 
DESCRIPTION:Inyectar capital básicamente es obtener un aporte adicional de dinero para tu empresa\, sea a través de socios\, créditos u otros medios. Las inyecciones de capital ayudan y permiten a las empresas crecer\, refinanciar o estabilizar\, dependiendo de la situación que viva en ese momento el negocio y el objetivo o la necesidad que se tenga.    Reserva tu ticket via Eventbrite.    Follow us via Eventbrite to be notified about our upcoming events.
URL;VALUE=URI:https://camaradecomerciocristiana.com/es/event/aprende-como-inyectar-capital-a-tu-negocio/
SUMMARY:Aprende cómo inyectar capital a tu negocio.
DTSTART:20220127T102400Z
END:VEVENT
END:VCALENDAR