BEGIN:VCALENDAR
VERSION:2.0
PRODID:-//CHAMBER DASHBOARD//EVENTS CALENDAR2.0//EN
CALSCALE:GREGORIAN
BEGIN:VEVENT
DTEND:20231219T150000Z
UID:69eaabb9472d6
DTSTAMP:20260423T233105Z
CATEGORIES:Business Dinner
DESCRIPTION:The Christian Chamber of Commerce's Alianza de Fe is excited to announce its upcoming Holiday Party and Member Recognitions on December 19\, 2023\, from 4 pm to 7 pm. The event will be held at the Windmill Library.    The Holiday Party will be a festive evening filled with delicious food\, entertainment\, and great company. It will also be an opportunity for the Alianza de Fe to recognize and honor its members for their contributions to the organization and the community. The Chamber will present recognitions to members who have shown exceptional leadership\, dedication\, and service throughout the year.
URL;VALUE=URI:https://camaradecomerciocristiana.com/es/event/alianza-de-fe-holiday-party-and-member-recognitions/
SUMMARY:Alianza de Fe - Holiday Party and Member Recognitions
DTSTART:20231219T113000Z
END:VEVENT
END:VCALENDAR