BEGIN:VCALENDAR
VERSION:2.0
PRODID:-//CHAMBER DASHBOARD//EVENTS CALENDAR2.0//EN
CALSCALE:GREGORIAN
BEGIN:VEVENT
DTEND:20220804T180000Z
UID:69ea65382215c
DTSTAMP:20260423T183016Z
CATEGORIES:Business Breakfast
DESCRIPTION:Business Prayer Breakfast "Alianza de Fe" will bring featured guests\, a great breakfast\, time to pray for your business and share your event calendar            About this event        &nbsp\;    We are glad to invite you to our prayer networking breakfast. This month we will be featuring :     	Entrepreneur guests that will share insights to better our business.   	A delightful breakfast from a featured dinner.   	Pray for your business.   	Bring your event calendar so we can share it with our members.    You can purchase your tickets via our Shop or through Eventbrite.    Are you a Christian Chamber of Commerce member?    Contact our staff to obtain your discount code:    702.246.2831    info@ccofcommerce.com    &nbsp\;    SPONSORSHIP OPPORTUNITIES AVAILABLE            &nbsp\;    Follow us via Eventbrite to be notified about our upcoming events.
URL;VALUE=URI:https://camaradecomerciocristiana.com/es/event/alianza-de-fe-business-prayer-breakfast/
SUMMARY:Alianza de Fe - Business Prayer Breakfast
DTSTART:20220804T160000Z
END:VEVENT
END:VCALENDAR