BEGIN:VCALENDAR
VERSION:2.0
PRODID:-//CHAMBER DASHBOARD//EVENTS CALENDAR2.0//EN
CALSCALE:GREGORIAN
BEGIN:VEVENT
DTEND:20220801T185756Z
UID:69eaabb8a6d41
DTSTAMP:20260423T233104Z
CATEGORIES:Free Event
LOCATION:Las Vegas-Clark County Library District 9600 W Sahara, Las Vegas, NV, 89117, United States
DESCRIPTION:FREE COMMUNITY EVENT! Come out for a day of fun and meet the local nonprofits in your area and learn more about what they do        About this event          Wednesday\, August 17th\, 2022 is NATIONAL NONPROFIT AWARENESS DAY AND we want to invite you to come out and help us recognize and raise awareness for the many local nonprofit organizations in our city that have a positive effect on the community in which we live. This event is designed to give nonprofits an opportunity to come together in one place\, at the same time\, and connect with the public while at same time celebrating their contributions to the community.    &nbsp\;    We want to connect nonprofit organizations in Clark County with local businesses\, volunteers\, and potential sponsors and donors. We are also inviting the community to come on out for a fun time and meet the local nonprofit organizations in our great city and learn more about what they do and the services they provide.    &nbsp\;    ADDITIONAL EVENT INFORMATION    100% FREE FOR EVERYONE but you do need to pre-register for the event    FREE for nonprofits to participate but spaces are limited    FREE Entertainment For The Entire Family    FREE Giveaways and Surprises Throughout The Event Donated By Local Businesses and Sponsors    Fun Games &amp\; Activities For The Kids    There Will Be A Pre-Event Conference FOR NONPROFITS ONLY Featuring Guest Speakers    &nbsp\;    * Sponsorship Opportunities Available    * Contact Us If You Are Interested In Being A Guest Speaker At The Pre-Event Conference    https://blackpearlpromotions.com/nonprofit-awareness-day-event    &nbsp\;    This is a FREE EVENT FOR EVERYONE but you must pre-register. FREE entertainment for the entire family. FREE giveaways and surprises throughout the day are donated by our sponsors. Fun games &amp\; activities for the kids.    &nbsp\;    PRE-REGISTER FOR EVENT AT: https://blackpearlpromotions.com/nonprofit-awareness-day-event    &nbsp\;    We want to connect nonprofit organizations in Las Vegas with local businesses\, volunteers\, and potential sponsors and donors. We are also inviting the community to come on out for a fun time and meet the local nonprofit organizations in our great city and learn more about what they do and the services they provide.
URL;VALUE=URI:https://camaradecomerciocristiana.com/es/event/2022-nevada-nonprofit-awareness-day-community-event-free/
SUMMARY:2022 Nevada Nonprofit Awareness Day Community Event (FREE)
DTSTART:20220801T185756Z
END:VEVENT
END:VCALENDAR